BEGIN:VCALENDAR
VERSION:2.0
CALSCALE:GREGORIAN
PRODID:adamgibbons/ics
METHOD:PUBLISH
X-PUBLISHED-TTL:PT1H
BEGIN:VEVENT
UID:5683@lapunta.org
SUMMARY:Cena solidale operai L'Alba
DTSTAMP:20260421T081633Z
DTSTART:20251220T183000Z
DTEND:20251220T210000Z
DESCRIPTION:Cena solidale con gli operai di Alba di Prato in lotta\n\nPreno
	tazione cena 3923467463\n\nSolidarietà con le lotte dei lavoratori !\n\nPa
	rtecipa !
URL:https://lapunta.org/event/cena-solidale-operai-lalba
LOCATION:Csa Next-Emerson - Via di Bellagio 15
STATUS:CONFIRMED
CATEGORIES:Sudd Cobas,cena solidale,lotta operaia,solidarietà
X-ALT-DESC;FMTTYPE=text/html:<p>Cena solidale con gli operai di Alba di Pra
	to in lotta</p><p>Prenotazione cena 3923467463</p><p>Solidarietà con le lo
	tte dei lavoratori !</p><p>Partecipa !</p>
END:VEVENT
BEGIN:VEVENT
UID:5644@lapunta.org
SUMMARY:CENA SOLIDALE CON GLI OPERAI DE L'ALBA - SUDD COBAS e Studenti di S
	inistra
DTSTAMP:20260421T081633Z
DTSTART:20251210T193000Z
DTEND:20251210T225000Z
DESCRIPTION:CENA SOLIDALE PER GLI OPERAI DE L'ALBA\n\nMercoledì 10 Dicembre
	\, nel plesso Universitario di Capponi! Vieni a sostenere\ngli operai!\n\n
	Contributo: 10 €\n\nInfo e prenotazioni al +39 371 161 7163\n\nDal 10 sett
	embre gli stiratori e confezionatori de L’Alba di Montemurlo lottano\nsenz
	a sosta per i loro diritti.\n\nDopo aver lavorato per anni i vestiti che i
	 grandi marchi della moda vendono a\ncaro prezzo nelle vetrine delle bouti
	que\, in un sistema fatto di appalti e\nsub-appalti\, di aziende che pensa
	no di poter sfruttare e scappare\, lasciando i\nlavoratori senza lavoro e 
	senza stipendio\, gli operai de L'Alba stanno portando\nuna rivoluzione ne
	lle filiere della moda.\n\nStanno richiamando i brand alle loro responsabi
	lità verso la tutela dei posti di\nlavoro e dei diritti di quegli operai c
	he per anni hanno cucito e stirato i loro\nvestiti\, costringendoli a lega
	re a doppio filo le proprie commesse alla garanzia\ndi lavoro e diritti.\n
	\nDa agosto sono senza stipendio\, sappiamo quanto puó essere duro portare
	 avanti\nuno sciopero giorno e notte davanti alla fabbrica ma è ancora piú
	 difficile\nfarlo se non sai come pagare le bollette o l’affitto.\n\nPer q
	uesto motivo è importantissimo il sostegno di tutte e tutti anche\nattrave
	rso la partecipazione a questa cena.\n\n\n\nLa lotta dei lavoratori de L'A
	lba è la lotta di tuttə.\n\nPer una rivoluzione nelle filiere della moda\n
	\nContro lo sfruttamento\, per una vita più bella\n\n\n\nPuoi anche contri
	buire al crowdfunding: https://gofund.me/b0f8ec34b [https://]
URL:https://lapunta.org/event/cena-solidale-con-gli-operai-de-lalba-sudd-co
	bas-e-studenti-di-sinistra
LOCATION:Dipartimento S.A.G.A.S. UniFi - Via G. Capponi\, 9\, 50121\, Firen
	ze
STATUS:CONFIRMED
CATEGORIES:Cena,Cena sociale,Firenze,Sudd Cobas,benefit,cena,cena benefit,c
	ena popolare,lotta,lotta operaia,studenti di sinistra,universitàù
X-ALT-DESC;FMTTYPE=text/html:<h2><strong>Cena solidale per gli operai de L'
	Alba</strong></h2><p><strong><em>Mercoledì 10 Dicembre, nel plesso Univers
	itario di Capponi! Vieni a sostenere gli operai!</em></strong></p><p><u>Co
	ntributo: 10 €</u></p><p><strong>Info e prenotazioni al +39 371 161 7163</
	strong></p><p>Dal 10 settembre gli stiratori e confezionatori de L’Alba di
	 Montemurlo lottano senza sosta per i loro diritti.</p><p>Dopo aver lavora
	to per anni i vestiti che i grandi marchi della moda vendono a caro prezzo
	 nelle vetrine delle boutique, in un sistema fatto di appalti e sub-appalt
	i, di aziende che pensano di poter sfruttare e scappare, lasciando i lavor
	atori senza lavoro e senza stipendio, gli operai de L'Alba stanno portando
	 una rivoluzione nelle filiere della moda.</p><p>Stanno richiamando i bran
	d alle loro responsabilità verso la tutela dei posti di lavoro e dei dirit
	ti di quegli operai che per anni hanno cucito e stirato i loro vestiti, co
	stringendoli a legare a doppio filo le proprie commesse alla garanzia di l
	avoro e diritti.</p><p>Da agosto sono senza stipendio, sappiamo quanto puó
	 essere duro portare avanti uno sciopero giorno e notte davanti alla fabbr
	ica ma è ancora piú difficile farlo se non sai come pagare le bollette o l
	’affitto.</p><p>Per questo motivo è importantissimo il sostegno di tutte e
	 tutti anche attraverso la partecipazione a questa cena.</p><p></p><p><str
	ong><em>La lotta dei lavoratori de L'Alba è la lotta di tuttə</em></strong
	>.</p><p><em>Per una rivoluzione nelle filiere della moda</em></p><p><em>C
	ontro lo sfruttamento, per una vita più bella</em></p><p></p><p><u>Puoi an
	che contribuire al crowdfunding:</u> <a href="https://" target="_blank">ht
	tps://gofund.me/b0f8ec34b</a></p>
END:VEVENT
BEGIN:VEVENT
UID:4614@lapunta.org
SUMMARY:Rumore nel vostro silenzio
DTSTAMP:20260421T081633Z
DTSTART:20250222T140000Z
DESCRIPTION:22 FEBBRAIO. MANIFESTAZIONE.\nORE 15:00 DA PRATO PORTA AL SERRA
	GLIO.\n\n\n\n1. Nella notte tra sabato e domenica la piana si è svegliata 
	con la notizia di\ntre bombe incendiarie radiocomandate fatte esplodere si
	multaneamente in tre\ndiverse aziende che si occupano di logistica dell'ab
	bigliamento.\n\n2. I magazzini attaccati sono l'Acca di Seano\, la Elt Exp
	ress di Campi Bisenzio\ne la Logistica Shun Da di Prato. Quest'ultima era 
	già stata completamente\ndistrutta da un incendio doloso lo scorso luglio.
	 In quell'occasione un'autista\nche era a dormire nel camion riuscì per mi
	racolo a scampare una morte tremenda.\n\n3. Negli ultimi anni in questo se
	ttore non si contano gli episodi di\nintimidazione e violenza mafiosa port
	ati avanti da organizzazioni criminali che\nin questo modo vogliono conqui
	stare pezzi di mercato. Dietro ogni furgone\nincendiato c'erano un autista
	 e un facchino fatti scendere sotto minaccia da\nquel furgone. Dietro ogni
	 magazzino che brucia ci sono lavoratori che rischiano\ndi morire bruciati
	.\n\n4. A Prato\, Seano\, Campi Bisenzio non possiamo parlare di “sicurezz
	a sul lavoro”\nsenza parlare di lotta alla mafia. E non possiamo parlare d
	i lotta alla mafia\nsenza parlare di sicurezza sul lavoro\, senza ricordar
	si che ci sono centinaia di\nlavoratori che rischiano di pagare con la lor
	o stessa vita il prezzo di guerre\nche non gli appartengono. Mentre tutti 
	i giorni la mafia impone su di loro\ncondizioni di sfruttamento.\n\n5. All
	a Acca\, alla Shun Da\, alla ELT Express in questi anni i lavoratori hanno
	\nscritto una nuova storia di sindacalizzazione\, diritti\, partecipazione
	\ndemocratica. E' da questa comunità operaia che parte l'appello a scender
	e in\npiazza questo sabato.\n\n6. Se il silenzio nutre omertà ed indiffere
	nza\, ora è il momento del rumore. A\ntutte e tutti noi – alla piana solid
	ale e democratica – ancora una volta la\nresponsabilità di reagire.
URL:https://lapunta.org/event/antimafia-e-lotta-per-il-lavoro-degno-e-sicur
	o-la-lotta-per-il-lavoro-degno-e-sicuro-e-antimafia
LOCATION:Porta al Serraglio - Porta al Serraglio\, Prato (PO)
STATUS:CONFIRMED
CATEGORIES:Prato,Sudd Cobas,antimafia,sindacato
X-ALT-DESC;FMTTYPE=text/html:<h3> 22 febbraio. Manifestazione. <br>Ore 15:0
	0 da Prato Porta al Serraglio.</h3><p></p><p>1. Nella notte tra sabato e d
	omenica la piana si è svegliata con la notizia di tre bombe incendiarie ra
	diocomandate fatte esplodere simultaneamente in tre diverse aziende che si
	 occupano di logistica dell'abbigliamento.</p><p>2. I magazzini attaccati 
	sono l'Acca di Seano, la Elt Express di Campi Bisenzio e la Logistica Shun
	 Da di Prato. Quest'ultima era già stata completamente distrutta da un inc
	endio doloso lo scorso luglio. In quell'occasione un'autista che era a dor
	mire nel camion riuscì per miracolo a scampare una morte tremenda.</p><p>3
	. Negli ultimi anni in questo settore non si contano gli episodi di intimi
	dazione e violenza mafiosa portati avanti da organizzazioni criminali che 
	in questo modo vogliono conquistare pezzi di mercato. Dietro ogni furgone 
	incendiato c'erano un autista e un facchino fatti scendere sotto minaccia 
	da quel furgone. Dietro ogni magazzino che brucia ci sono lavoratori che r
	ischiano di morire bruciati.</p><p>4. A Prato, Seano, Campi Bisenzio non p
	ossiamo parlare di “sicurezza sul lavoro” senza parlare di lotta alla mafi
	a. E non possiamo parlare di lotta alla mafia senza parlare di sicurezza s
	ul lavoro, senza ricordarsi che ci sono centinaia di lavoratori che rischi
	ano di pagare con la loro stessa vita il prezzo di guerre che non gli appa
	rtengono. Mentre tutti i giorni la mafia impone su di loro condizioni di s
	fruttamento.</p><p>5. Alla Acca, alla Shun Da, alla ELT Express in questi 
	anni i lavoratori hanno scritto una nuova storia di sindacalizzazione, dir
	itti, partecipazione democratica. E' da questa comunità operaia che parte 
	l'appello a scendere in piazza questo sabato.</p><p>6. Se il silenzio nutr
	e omertà ed indifferenza, ora è il momento del rumore. A tutte e tutti noi
	 – alla piana solidale e democratica – ancora una volta la responsabilità 
	di reagire.</p>
END:VEVENT
END:VCALENDAR
